BEGIN:VCALENDAR
VERSION:2.0
PRODID:gruene-hcl.de
METHOD:PUBLISH
BEGIN:VTIMEZONE
TZID:Europe/Berlin
X-LIC-LOCATION:Europe/Berlin
BEGIN:DAYLIGHT
TZOFFSETFROM:+0100
TZOFFSETTO:+0200
TZNAME:CEST
DTSTART:19700329T020000
RRULE:FREQ=YEARLY;INTERVAL=1;BYDAY=-1SU;BYMONTH=3
END:DAYLIGHT
BEGIN:STANDARD
TZOFFSETFROM:+0200
TZOFFSETTO:+0100
TZNAME:CET
DTSTART:19701025T030000
RRULE:FREQ=YEARLY;INTERVAL=1;BYDAY=-1SU;BYMONTH=10
END:STANDARD
END:VTIMEZONE
BEGIN:VEVENT
UID:bb1f1670fbaf9c93fd1db641341c371d@gruene-hcl.de
URL;VALUE=URI:https://gruene-hcl.de/termine/stadtradeln-2026/
LOCATION:
SUMMARY:Stadtradeln 2026
DESCRIPTION;ALTREP="data:text/html,%0A%3Cp%3Ekomm%20mit%20ins%20Team%20%2
 2die%20Gr%C3%BCnen%20Herzebrock-Clarholz%22%20%3C%2Fp%3E%0A%0A%0A%0A%3Cp%
 3EAnmeldung%20unter%3A%20%3Ca%20href%3D%22https%3A%2F%2Fwww.stadtradeln.d
 e%22%20id%3D%22https%3A%2F%2Fwww.stadtradeln.de%22%20target%3D%22_blank%2
 2%20rel%3D%22noreferrer%20noopener%22%3EStadtradeln.de%3C%2Fa%3E%3C%2Fp%3
 E%0A%0A%0A%0A%3Cp%3E%3C%2Fp%3E%0A%0A%0A%0A%3Cp%3E%3C%2Fp%3E%0A":komm mit 
 ins Team "die Grünen Herzebrock-Clarholz"\n\nAnmeldung unter: Stadtradel
 n.de
CLASS:PUBLIC
DTSTART;TZID=Europe/Berlin:20260501
DTEND;TZID=Europe/Berlin:20260522
DTSTAMP:20260421T131049
END:VEVENT
END:VCALENDAR