BEGIN:VCALENDAR
VERSION:2.0
PRODID:gruene-hcl.de
METHOD:PUBLISH
BEGIN:VTIMEZONE
TZID:Europe/Berlin
X-LIC-LOCATION:Europe/Berlin
BEGIN:DAYLIGHT
TZOFFSETFROM:+0100
TZOFFSETTO:+0200
TZNAME:CEST
DTSTART:19700329T020000
RRULE:FREQ=YEARLY;INTERVAL=1;BYDAY=-1SU;BYMONTH=3
END:DAYLIGHT
BEGIN:STANDARD
TZOFFSETFROM:+0200
TZOFFSETTO:+0100
TZNAME:CET
DTSTART:19701025T030000
RRULE:FREQ=YEARLY;INTERVAL=1;BYDAY=-1SU;BYMONTH=10
END:STANDARD
END:VTIMEZONE
BEGIN:VEVENT
UID:e222f5b3f91b69f8f42c9fe25292ef08@gruene-hcl.de
URL;VALUE=URI:https://gruene-hcl.de/termine/sommerferien/
LOCATION:
SUMMARY:Sommerferien
DESCRIPTION;ALTREP="data:text/html,%0A%3Cp%3E%3D%20politische%20Pause%3C%
 2Fp%3E%0A":= politische Pause
CLASS:PUBLIC
DTSTART;TZID=Europe/Berlin:20240706T000000
DTEND;TZID=Europe/Berlin:20240820T235900
DTSTAMP:20260422T073550
END:VEVENT
END:VCALENDAR