BEGIN:VCALENDAR
VERSION:2.0
PRODID:gruene-hcl.de
METHOD:PUBLISH
BEGIN:VTIMEZONE
TZID:Europe/Berlin
X-LIC-LOCATION:Europe/Berlin
BEGIN:DAYLIGHT
TZOFFSETFROM:+0100
TZOFFSETTO:+0200
TZNAME:CEST
DTSTART:19700329T020000
RRULE:FREQ=YEARLY;INTERVAL=1;BYDAY=-1SU;BYMONTH=3
END:DAYLIGHT
BEGIN:STANDARD
TZOFFSETFROM:+0200
TZOFFSETTO:+0100
TZNAME:CET
DTSTART:19701025T030000
RRULE:FREQ=YEARLY;INTERVAL=1;BYDAY=-1SU;BYMONTH=10
END:STANDARD
END:VTIMEZONE
BEGIN:VEVENT
UID:12f48faed42972daa47eb8044db91068@gruene-hcl.de
URL;VALUE=URI:https://gruene-hcl.de/termine/sebastian-stoelting-in-herzeb
 rock/
LOCATION:Marktplatz Herzebrock
SUMMARY:Sebastian Stölting in Herzebrock
DESCRIPTION;ALTREP="data:text/html,%0A%3Cp%3Eam%20Freitag%2C%20den%2013.0
 8.%20kommt%20unser%20Bundestagskandidat%20Sebastian%20St%C3%B6lting%20zu%
 20uns%20auf%20den%20Markt%20in%20Herzebrock.%20%3C%2Fp%3E%0A%0A%0A%0A%3Cp
 %3EEr%20ist%20ab%209h%20f%C3%BCr%20alle%20Eure%20Fragen%20ansprechbar.%20
 %3C%2Fp%3E%0A%0A%0A%0A%3Cp%3E%23weitersagen%20%23Sebastian.St%C3%B6lting%
 20%23Marktplatz%3C%2Fp%3E%0A":am Freitag\, den 13.08. kommt unser Bundest
 agskandidat Sebastian Stölting zu uns auf den Markt in Herzebrock.\n\nEr
  ist ab 9h für alle Eure Fragen ansprechbar.\n\n#weitersagen #Sebastian.
 Stölting #Marktplatz
CLASS:PUBLIC
DTSTART;TZID=Europe/Berlin:20210813T090000
DTEND;TZID=Europe/Berlin:20210813T100000
DTSTAMP:20260420T010934
END:VEVENT
END:VCALENDAR