BEGIN:VCALENDAR
VERSION:2.0
PRODID:gruene-hcl.de
METHOD:PUBLISH
BEGIN:VTIMEZONE
TZID:Europe/Berlin
X-LIC-LOCATION:Europe/Berlin
BEGIN:DAYLIGHT
TZOFFSETFROM:+0100
TZOFFSETTO:+0200
TZNAME:CEST
DTSTART:19700329T020000
RRULE:FREQ=YEARLY;INTERVAL=1;BYDAY=-1SU;BYMONTH=3
END:DAYLIGHT
BEGIN:STANDARD
TZOFFSETFROM:+0200
TZOFFSETTO:+0100
TZNAME:CET
DTSTART:19701025T030000
RRULE:FREQ=YEARLY;INTERVAL=1;BYDAY=-1SU;BYMONTH=10
END:STANDARD
END:VTIMEZONE
BEGIN:VEVENT
UID:c1e4dff3c318270ab3293c3fe203f278@gruene-hcl.de
URL;VALUE=URI:https://gruene-hcl.de/termine/sebastian-stoelting-in-h-cl/
LOCATION:Zimmerei Vielstädte, Tecklenburger Weg 28
SUMMARY:Sebastian Stölting in H-Cl
DESCRIPTION;ALTREP="data:text/html,%0A%3Cp%3ETriff%20Sebastian%20in%20der
 %20Zimmerei%20Vielst%C3%A4dte.%3C%2Fp%3E%0A%0A%0A%0A%3Cp%3EWelche%20Herau
 sforderungen%20ergeben%20sich%20f%C3%BCr%20Betriebe%20und%20wie%20k%C3%B6
 nnten%20m%C3%B6gliche%20L%C3%B6sungen%20aussehen%3F%20Welche%20Antworten%
 20haben%20die%20Gr%C3%BCnen%20hierauf%20%3F%3C%2Fp%3E%0A":Triff Sebastian
  in der Zimmerei Vielstädte.\n\nWelche Herausforderungen ergeben sich f
 ür Betriebe und wie könnten mögliche Lösungen aussehen? Welche Antwor
 ten haben die Grünen hierauf ?
CLASS:PUBLIC
DTSTART;TZID=Europe/Berlin:20210830T150000
DTEND;TZID=Europe/Berlin:20210830T160000
DTSTAMP:20260422T135233
END:VEVENT
END:VCALENDAR