BEGIN:VCALENDAR
VERSION:2.0
PRODID:gruene-hcl.de
METHOD:PUBLISH
BEGIN:VTIMEZONE
TZID:Europe/Berlin
X-LIC-LOCATION:Europe/Berlin
BEGIN:DAYLIGHT
TZOFFSETFROM:+0100
TZOFFSETTO:+0200
TZNAME:CEST
DTSTART:19700329T020000
RRULE:FREQ=YEARLY;INTERVAL=1;BYDAY=-1SU;BYMONTH=3
END:DAYLIGHT
BEGIN:STANDARD
TZOFFSETFROM:+0200
TZOFFSETTO:+0100
TZNAME:CET
DTSTART:19701025T030000
RRULE:FREQ=YEARLY;INTERVAL=1;BYDAY=-1SU;BYMONTH=10
END:STANDARD
END:VTIMEZONE
BEGIN:VEVENT
UID:7f39f828399db3afc2618160be9ae143@gruene-hcl.de
URL;VALUE=URI:https://gruene-hcl.de/termine/robin-wagener-in-clarholz/
LOCATION:Biohof Pavenstädt, Letter Str. 28
SUMMARY:Robin Wagener in Clarholz
DESCRIPTION;ALTREP="data:text/html,%0A%3Cdiv%20class%3D%22wp-block-column
 s%20is-layout-flex%20wp-container-core-columns-is-layout-9d6595d7%20wp-bl
 ock-columns-is-layout-flex%22%3E%0A%3Cdiv%20class%3D%22wp-block-column%20
 is-layout-flow%20wp-block-column-is-layout-flow%22%3E%0A%3Cfigure%20class
 %3D%22wp-block-image%20size-large%22%3E%3Cimg%20src%3D%22https%3A%2F%2Fgr
 uene-hcl.de%2Fwp-content%2Fuploads%2F2025%2F07%2Frobin02-800x1000.jpg%22%
 20alt%3D%22%22%20class%3D%22wp-image-5286%22%20%2F%3E%3C%2Ffigure%3E%0A%3
 C%2Fdiv%3E%0A%0A%0A%0A%3Cdiv%20class%3D%22wp-block-column%20is-layout-flo
 w%20wp-block-column-is-layout-flow%22%3E%0A%3Cfigure%20class%3D%22wp-bloc
 k-image%20size-large%22%3E%3Cimg%20src%3D%22https%3A%2F%2Fgruene-hcl.de%2
 Fwp-content%2Fuploads%2F2025%2F07%2Frobin03-800x1000.jpg%22%20alt%3D%22%2
 2%20class%3D%22wp-image-5285%22%20%2F%3E%3C%2Ffigure%3E%0A%3C%2Fdiv%3E%0A
 %3C%2Fdiv%3E%0A%0A%0A%0A%3Chr%20class%3D%22wp-block-separator%20has-css-o
 pacity%20is-style-default%22%20%2F%3E%0A%0A%0A%0A%3Cfigure%20class%3D%22w
 p-block-image%20aligncenter%20size-full%20is-resized%20is-style-rounded%2
 2%3E%3Cimg%20src%3D%22https%3A%2F%2Fgruene-hcl.de%2Fwp-content%2Fuploads%
 2F2025%2F07%2Frobin4.png%22%20alt%3D%22%22%20class%3D%22wp-image-5292%22%
 20style%3D%22aspect-ratio%3A1%3Bobject-fit%3Acover%3Bwidth%3A132px%3Bheig
 ht%3Aauto%22%20%2F%3E%3C%2Ffigure%3E%0A%0A%0A%0A%3Cblockquote%20class%3D%
 22wp-block-quote%20has-text-align-center%20is-style-large%20is-layout-flo
 w%20wp-block-quote-is-layout-flow%22%3E%0A%3Cp%20class%3D%22has-medium-fo
 nt-size%22%3E%E2%80%9EDemokratie%20und%20Freiheit%20sind%20meine%20Herzen
 sthemen.%20Der%20Schwerpunkt%20meiner%20parlamentarischen%20Arbeit%20im%2
 0Bundestag%20liegt%20in%20der%20Au%C3%9Fen-%20und%20Sicherheitspolitik%20
 und%20speziell%20auf%20Osteuropa.%20Ich%20setze%20mich%20f%C3%BCr%20einen
 %20tragbaren%20Frieden%20und%20schnellen%20EU-Beitritt%20der%20Ukraine%20
 ein%20und%20unterst%C3%BCtze%20die%20Demokratiebewegungen%20in%20Belarus%
 20und%20Russland.%20Im%20Bundestag%20sitze%20ich%20im%20Ausw%C3%A4rtigen%
 20Ausschuss%2C%20im%20Europaausschuss%20und%20bin%20Mitglied%20im%20Verte
 idigungsausschuss.%E2%80%9C%3C%2Fp%3E%0A%3Ccite%3E%E2%80%93%20Robin%20Wag
 ener%3C%2Fcite%3E%3C%2Fblockquote%3E%0A%0A%0A%0A%3Chr%20class%3D%22wp-blo
 ck-separator%20has-css-opacity%20is-style-default%22%20%2F%3E%0A%0A%0A%0A
 %3Cp%3E%3C%2Fp%3E%0A%0A%0A%0A%3Cp%3E%3Ca%20href%3D%22https%3A%2F%2Frobin-
 wagener.de%22%20target%3D%22_blank%22%20rel%3D%22noreferrer%20noopener%22
 %3E%26gt%3B%26gt%3B%20Hier%20geht%C2%B4s%20zur%20Homepage%20von%20Robin%2
 0%26lt%3B%26lt%3B%3C%2Fa%3E%3C%2Fp%3E%0A%0A%0A%0A%3Cp%3E%3C%2Fp%3E%0A":
 „Demokratie und Freiheit sind meine Herzensthemen. Der Schwerpunkt mein
 er parlamentarischen Arbeit im Bundestag liegt in der Außen- und Sicherh
 eitspolitik und speziell auf Osteuropa. Ich setze mich für einen tragbar
 en Frieden und schnellen EU-Beitritt der Ukraine ein und unterstütze die
  Demokratiebewegungen in Belarus und Russland. Im Bundestag sitze ich im 
 Auswärtigen Ausschuss\, im Europaausschuss und bin Mitglied im Verteidig
 ungsausschuss.“\n\n– Robin Wagener\n\n>> Hier geht´s zur Homepage vo
 n Robin <<
CLASS:PUBLIC
DTSTART;TZID=Europe/Berlin:20250901T193000
DTEND;TZID=Europe/Berlin:20250901T203000
DTSTAMP:20260420T090629
END:VEVENT
END:VCALENDAR