BEGIN:VCALENDAR
VERSION:2.0
PRODID:gruene-hcl.de
METHOD:PUBLISH
BEGIN:VTIMEZONE
TZID:Europe/Berlin
X-LIC-LOCATION:Europe/Berlin
BEGIN:DAYLIGHT
TZOFFSETFROM:+0100
TZOFFSETTO:+0200
TZNAME:CEST
DTSTART:19700329T020000
RRULE:FREQ=YEARLY;INTERVAL=1;BYDAY=-1SU;BYMONTH=3
END:DAYLIGHT
BEGIN:STANDARD
TZOFFSETFROM:+0200
TZOFFSETTO:+0100
TZNAME:CET
DTSTART:19701025T030000
RRULE:FREQ=YEARLY;INTERVAL=1;BYDAY=-1SU;BYMONTH=10
END:STANDARD
END:VTIMEZONE
BEGIN:VEVENT
UID:5680ee198d484cb557c5a07163abc2d8@gruene-hcl.de
URL;VALUE=URI:https://gruene-hcl.de/termine/presse-und-demokratie/
LOCATION:online
SUMMARY:Presse und Demokratie
DESCRIPTION;ALTREP="data:text/html,%0A%3Cp%3EAnmeldung%3A%20%3Ca%20href%3
 D%22https%3A%2F%2Fgruene-lemgo.de%2Ftermine%2Fpresse-und-demokratie%22%20
 target%3D%22_blank%22%20rel%3D%22noreferrer%20noopener%22%3Ehttps%3A%2F%2
 Fgruene-lemgo.de%2Ftermine%2Fpresse-und-demokratie%3C%2Fa%3E%2F%3C%2Fp%3E
 %0A%0A%0A%0A%3Cp%3Eoder%3A%20%3Ca%20href%3D%22http%3A%2F%2Fwww.grune-lemg
 o.de%2F27mai2021%22%20target%3D%22_blank%22%20rel%3D%22noreferrer%20noope
 ner%22%3Egruene-lemgo.de%2F27mai2021%3C%2Fa%3E%3C%2Fp%3E%0A%0A%0A%0A%3Cp%
 3EEine%20starke%20Demokratie%20braucht%20eine%20unabh%C3%A4ngige%20und%20
 freie%20Presse.%20Doch%20der%20Qualit%C3%A4tsjournalismus%20steht%20unter
 %20Druck.%20Die%20Digitalisierung%20schafft%20neue%20Konkurrenz%2C%20Onli
 ne-Angebote%20ersetzen%20zunehmend%20die%20Printausgabe.%20Politische%20A
 ngriffe%20machen%20auch%20vor%20der%20Presse%20nicht%20halt.%20Welche%20W
 ege%20gibt%20es%20f%C3%BCr%20die%20lokale%20und%20%C3%BCberregionale%20Pr
 esse%20im%20digitalen%20Zeitalter%3F%20Wie%20erhalten%20wir%20eine%20plur
 ale%2C%20hochwertige%20Presselandschaft%3F%3C%2Fp%3E%0A%0A%0A%0A%3Cp%3EEs
 %20diskutieren%3A%3C%2Fp%3E%0A%0A%0A%0A%3Cul%20class%3D%22wp-block-list%2
 2%3E%3Cli%3EUlrike%20Winkelmann%20%28Chefredakteurin%20%3Cem%3Edie%20tage
 szeitung%3C%2Fem%3E%29%3C%2Fli%3E%3Cli%3ERalf%20Freitag%20%28Gesch%C3%A4f
 tsf%C3%BChrer%20der%20Lippischer%20Zeitungsverlag%20Giesdorf%20GmbH%26amp
 %3BCo.KG%29%3C%2Fli%3E%3Cli%3EBritta%20Ha%C3%9Felmann%20MdB%20%28Parlamen
 tarische%20Gesch%C3%A4ftsf%C3%BChrerin%20im%20Bundestag%29%3C%2Fli%3E%3Cl
 i%3ERobin%20Wagener%20%28Bundestagskandidat%20Lippe%20I%29%3C%2Fli%3E%3C%
 2Ful%3E%0A%0A%0A%0A%3Cp%3E%3C%2Fp%3E%0A":Anmeldung: https://gruene-lemgo.
 de/termine/presse-und-demokratie/\n\noder: gruene-lemgo.de/27mai2021\n\nE
 ine starke Demokratie braucht eine unabhängige und freie Presse. Doch de
 r Qualitätsjournalismus steht unter Druck. Die Digitalisierung schafft n
 eue Konkurrenz\, Online-Angebote ersetzen zunehmend die Printausgabe. Pol
 itische Angriffe machen auch vor der Presse nicht halt. Welche Wege gibt 
 es für die lokale und überregionale Presse im digitalen Zeitalter? Wie 
 erhalten wir eine plurale\, hochwertige Presselandschaft?\n\nEs diskutier
 en:\n\nUlrike Winkelmann (Chefredakteurin die tageszeitung)Ralf Freitag (
 Geschäftsführer der Lippischer Zeitungsverlag Giesdorf GmbH&Co.KG)Britt
 a Haßelmann MdB (Parlamentarische Geschäftsführerin im Bundestag)Robin
  Wagener (Bundestagskandidat Lippe I)
CLASS:PUBLIC
DTSTART;TZID=Europe/Berlin:20210527T193000
DTEND;TZID=Europe/Berlin:20210527T210000
DTSTAMP:20260425T165119
END:VEVENT
END:VCALENDAR