BEGIN:VCALENDAR
VERSION:2.0
PRODID:gruene-hcl.de
METHOD:PUBLISH
BEGIN:VTIMEZONE
TZID:Europe/Berlin
X-LIC-LOCATION:Europe/Berlin
BEGIN:DAYLIGHT
TZOFFSETFROM:+0100
TZOFFSETTO:+0200
TZNAME:CEST
DTSTART:19700329T020000
RRULE:FREQ=YEARLY;INTERVAL=1;BYDAY=-1SU;BYMONTH=3
END:DAYLIGHT
BEGIN:STANDARD
TZOFFSETFROM:+0200
TZOFFSETTO:+0100
TZNAME:CET
DTSTART:19701025T030000
RRULE:FREQ=YEARLY;INTERVAL=1;BYDAY=-1SU;BYMONTH=10
END:STANDARD
END:VTIMEZONE
BEGIN:VEVENT
UID:efc576debe19b36ba697953f5e29af02@gruene-hcl.de
URL;VALUE=URI:https://gruene-hcl.de/termine/mitgliederhauptversammlung/
LOCATION:Biohof Pavenstädt-Westhoff, Letter Str. 28, H-Clarholz
SUMMARY:Mitgliederhauptversammlung
DESCRIPTION;ALTREP="data:text/html,%0A%3Cp%3E%3Cstrong%3ETagesordnung%3C%
 2Fstrong%3E%3Cbr%3E%3Cbr%3E%3Cstrong%3E1.%26nbsp%3B%20Allgemeines%3C%2Fst
 rong%3E%3Cbr%3EBegr%C3%BC%C3%9Fung%20%26amp%3B%20Formalia%3Cbr%3E%26nbsp%
 3B%3Cbr%3E%3Cstrong%3E2.%20R%C3%BCckblick%3C%2Fstrong%3E%3Cbr%3Erelevante
 n%20Themen%20%26amp%3B%20Kritikrunde%3Cbr%3E%3Cstrong%3E%3Cbr%3E3.%20Beri
 chte%20%26amp%3B%20Finanzen%3C%2Fstrong%3E%3C%2Fp%3E%0A%0A%0A%0A%3Cp%3E%3
 Cstrong%3E4.%20Wahlen%3C%2Fstrong%3E%3Cbr%3E%20Vorstand%20%26amp%3B%20Rec
 hnungspr%C3%BCfer%2Ainnen%3C%2Fp%3E%0A%0A%0A%0A%3Cp%3E%3Cstrong%3E5.%20Be
 richt%20aus%20dem%20Kreisverband%3C%2Fstrong%3E%3Cstrong%3E%3C%2Fstrong%3
 E%3C%2Fp%3E%0A%0A%0A%0A%3Cp%3E%3Cstrong%3E6.%20Planung%20%26amp%3B%20Term
 ine%3C%2Fstrong%3E%3Cstrong%3E%3C%2Fstrong%3E%3C%2Fp%3E%0A%0A%0A%0A%3Cp%3
 E%3Cstrong%3E7.%20Sonstiges%3C%2Fstrong%3E%3C%2Fp%3E%0A":Tagesordnung1. 
  AllgemeinesBegrüßung & Formalia 2. Rückblickrelevanten Themen & Krit
 ikrunde3. Berichte & Finanzen\n\n4. Wahlen Vorstand & Rechnungsprüfer*in
 nen\n\n5. Bericht aus dem Kreisverband\n\n6. Planung & Termine\n\n7. Sons
 tiges
CLASS:PUBLIC
DTSTART;TZID=Europe/Berlin:20220610T183000
DTEND;TZID=Europe/Berlin:20220610T193000
DTSTAMP:20260422T043300
END:VEVENT
END:VCALENDAR