BEGIN:VCALENDAR
VERSION:2.0
PRODID:gruene-hcl.de
METHOD:PUBLISH
BEGIN:VTIMEZONE
TZID:Europe/Berlin
X-LIC-LOCATION:Europe/Berlin
BEGIN:DAYLIGHT
TZOFFSETFROM:+0100
TZOFFSETTO:+0200
TZNAME:CEST
DTSTART:19700329T020000
RRULE:FREQ=YEARLY;INTERVAL=1;BYDAY=-1SU;BYMONTH=3
END:DAYLIGHT
BEGIN:STANDARD
TZOFFSETFROM:+0200
TZOFFSETTO:+0100
TZNAME:CET
DTSTART:19701025T030000
RRULE:FREQ=YEARLY;INTERVAL=1;BYDAY=-1SU;BYMONTH=10
END:STANDARD
END:VTIMEZONE
BEGIN:VEVENT
UID:4dab8f97ba05e1e2092d0cd5e9532661@gruene-hcl.de
URL;VALUE=URI:https://gruene-hcl.de/termine/fraktionssitzung-4/
LOCATION:
SUMMARY:Fraktionssitzung
DESCRIPTION;ALTREP="data:text/html,%0A%3Cp%3EUnsere%20Fraktionssitzungen%
 20sind%20%C3%B6ffentlich%2C%20solange%20auch%20%C3%B6ffentliche%20Themen%
 20besprochen%20werden.%20%3C%2Fp%3E%0A%0A%0A%0A%3Cp%3EWir%20wechseln%20ab
 %20und%20an%20den%20Ort%2C%20also%20bei%20Interesse%20einfach%20melden.%2
 0%3C%2Fp%3E%0A%0A%0A%0A%3Cp%3E%3C%2Fp%3E%0A":Unsere Fraktionssitzungen si
 nd öffentlich\, solange auch öffentliche Themen besprochen werden.\n\nW
 ir wechseln ab und an den Ort\, also bei Interesse einfach melden.
CLASS:PUBLIC
DTSTART;TZID=Europe/Berlin:20250822T183000
DTEND;TZID=Europe/Berlin:20250822T193000
DTSTAMP:20260420T091838
END:VEVENT
END:VCALENDAR