BEGIN:VCALENDAR
VERSION:2.0
PRODID:gruene-hcl.de
METHOD:PUBLISH
BEGIN:VTIMEZONE
TZID:Europe/Berlin
X-LIC-LOCATION:Europe/Berlin
BEGIN:DAYLIGHT
TZOFFSETFROM:+0100
TZOFFSETTO:+0200
TZNAME:CEST
DTSTART:19700329T020000
RRULE:FREQ=YEARLY;INTERVAL=1;BYDAY=-1SU;BYMONTH=3
END:DAYLIGHT
BEGIN:STANDARD
TZOFFSETFROM:+0200
TZOFFSETTO:+0100
TZNAME:CET
DTSTART:19701025T030000
RRULE:FREQ=YEARLY;INTERVAL=1;BYDAY=-1SU;BYMONTH=10
END:STANDARD
END:VTIMEZONE
BEGIN:VEVENT
UID:0ce628ff5833870bc3bee0fd8d8c4fd4@gruene-hcl.de
URL;VALUE=URI:https://gruene-hcl.de/termine/fraktionssitzung-3/
LOCATION:Hof Pavenstädt-Westhoff, Herzebrock-Clarholz
SUMMARY:Fraktionssitzung
DESCRIPTION;ALTREP="data:text/html,%0A%3Cp%3EUnsere%20Fraktionssitzungen%
 20sind%20%C3%B6ffentlich.%20Alle%2C%20die%20Interesse%20an%20den%20Themen
 %20haben%20bzw.%20einen%20%C3%9Cberblick%20%C3%BCber%20die%20Themen%20bek
 ommen%20m%C3%B6chten%2C%20sind%20herzlich%20eingeladen.%3Cbr%3EWer%20nur%
 20an%20einem%20bestimmten%20Thema%20interessiert%20ist%2C%20kann%20uns%20
 gerne%20ansprechen%20und%20dann%20zu%20einer%20Vorbereitung%20des%20entsp
 rechenden%20Ausschusses%20kommen.%20%3C%2Fp%3E%0A":Unsere Fraktionssitzun
 gen sind öffentlich. Alle\, die Interesse an den Themen haben bzw. einen
  Überblick über die Themen bekommen möchten\, sind herzlich eingeladen
 .Wer nur an einem bestimmten Thema interessiert ist\, kann uns gerne ansp
 rechen und dann zu einer Vorbereitung des entsprechenden Ausschusses komm
 en.
CLASS:PUBLIC
DTSTART;TZID=Europe/Berlin:20240627T183000
DTEND;TZID=Europe/Berlin:20240627T193000
DTSTAMP:20260424T223712
END:VEVENT
END:VCALENDAR