BEGIN:VCALENDAR
VERSION:2.0
PRODID:gruene-hcl.de
METHOD:PUBLISH
BEGIN:VTIMEZONE
TZID:Europe/Berlin
X-LIC-LOCATION:Europe/Berlin
BEGIN:DAYLIGHT
TZOFFSETFROM:+0100
TZOFFSETTO:+0200
TZNAME:CEST
DTSTART:19700329T020000
RRULE:FREQ=YEARLY;INTERVAL=1;BYDAY=-1SU;BYMONTH=3
END:DAYLIGHT
BEGIN:STANDARD
TZOFFSETFROM:+0200
TZOFFSETTO:+0100
TZNAME:CET
DTSTART:19701025T030000
RRULE:FREQ=YEARLY;INTERVAL=1;BYDAY=-1SU;BYMONTH=10
END:STANDARD
END:VTIMEZONE
BEGIN:VEVENT
UID:b6c146ea4c8956fd044501d4c0adefbd@gruene-hcl.de
URL;VALUE=URI:https://gruene-hcl.de/termine/earth-hour-2025/
LOCATION:
SUMMARY:Earth Hour 2025
DESCRIPTION;ALTREP="data:text/html,%0A%3Cp%3EAm%20Samstag%2C%2022.%20M%C3
 %A4rz%202025%2C%20um%2020.30%20Uhr%20Ortszeit%20findet%20unter%20dem%20Mo
 tto%20%E2%80%9ELicht%20aus.%20Stimme%20an.%20F%C3%BCr%20einen%20lebendige
 n%20Planeten.%E2%80%9C%20die%20n%C3%A4chste%20Earth%20Hour%20statt.%20Dan
 n%20wird%20wieder%20%C3%BCberall%20auf%20der%20ganzen%20Welt%20in%20der%2
 0jeweiligen%20Zeitzone%20f%C3%BCr%20eine%20Stunde%20das%20Licht%20ausgest
 ellt%2C%20um%20gemeinsam%20ein%20starkes%20Zeichen%20f%C3%BCr%20mehr%20Kl
 imaschutz%20zu%20setzen.%3C%2Fp%3E%0A%0A%0A%0A%3Cp%3Eweitere%20Infos%20be
 im%20WWF%20%3Ca%20href%3D%22https%3A%2F%2Fwww.wwf.de%2Fearth-hour%22%20ta
 rget%3D%22_blank%22%20rel%3D%22noreferrer%20noopener%22%3E%26gt%3B%26gt%3
 B%20klick%20%26lt%3B%26lt%3B%3C%2Fa%3E%3C%2Fp%3E%0A":Am Samstag\, 22. Mä
 rz 2025\, um 20.30 Uhr Ortszeit findet unter dem Motto „Licht aus. Stim
 me an. Für einen lebendigen Planeten.“ die nächste Earth Hour statt. 
 Dann wird wieder überall auf der ganzen Welt in der jeweiligen Zeitzone 
 für eine Stunde das Licht ausgestellt\, um gemeinsam ein starkes Zeichen
  für mehr Klimaschutz zu setzen.\n\nweitere Infos beim WWF >> klick <<
CLASS:PUBLIC
DTSTART;TZID=Europe/Berlin:20250322T203000
DTEND;TZID=Europe/Berlin:20250322T213000
DTSTAMP:20260422T183957
END:VEVENT
END:VCALENDAR