BEGIN:VCALENDAR
VERSION:2.0
PRODID:gruene-hcl.de
METHOD:PUBLISH
BEGIN:VTIMEZONE
TZID:Europe/Berlin
X-LIC-LOCATION:Europe/Berlin
BEGIN:DAYLIGHT
TZOFFSETFROM:+0100
TZOFFSETTO:+0200
TZNAME:CEST
DTSTART:19700329T020000
RRULE:FREQ=YEARLY;INTERVAL=1;BYDAY=-1SU;BYMONTH=3
END:DAYLIGHT
BEGIN:STANDARD
TZOFFSETFROM:+0200
TZOFFSETTO:+0100
TZNAME:CET
DTSTART:19701025T030000
RRULE:FREQ=YEARLY;INTERVAL=1;BYDAY=-1SU;BYMONTH=10
END:STANDARD
END:VTIMEZONE
BEGIN:VEVENT
UID:d4be6e49bf9659413e899e9f6ae6ba2b@gruene-hcl.de
URL;VALUE=URI:https://gruene-hcl.de/termine/cityfest-2/
LOCATION:
SUMMARY:Cityfest
DESCRIPTION;ALTREP="data:text/html,%0A%3Cp%3Ewir%20sind%20auch%20dabei%20
 -%20mit%20einer%20Carrerabahn%20mit%20Handantrieb.%20%3Cbr%3EKinder%20k%C
 3%B6nnen%20bei%20uns%20Holzfiguren%20bemalen%20-%20eine%20f%C3%BCr%20uns%
 20zur%20Deko%20der%20Bahn%20und%20eine%20zum%20Mitnehmen.%20%3C%2Fp%3E%0A
 %0A%0A%0A%3Cp%3EAu%C3%9Ferdem%20informieren%20wir%20%C3%BCber%20die%20B64
 n%20und%20die%20B%C3%BCrgerabstimmung%20dazu.%20%3C%2Fp%3E%0A":wir sind a
 uch dabei - mit einer Carrerabahn mit Handantrieb. Kinder können bei uns
  Holzfiguren bemalen - eine für uns zur Deko der Bahn und eine zum Mitne
 hmen.\n\nAußerdem informieren wir über die B64n und die Bürgerabstimmu
 ng dazu.
CLASS:PUBLIC
DTSTART;TZID=Europe/Berlin:20240915T130000
DTEND;TZID=Europe/Berlin:20240915T180000
DTSTAMP:20260421T094351
END:VEVENT
END:VCALENDAR