BEGIN:VCALENDAR
VERSION:2.0
PRODID:gruene-hcl.de
METHOD:PUBLISH
BEGIN:VTIMEZONE
TZID:Europe/Berlin
X-LIC-LOCATION:Europe/Berlin
BEGIN:DAYLIGHT
TZOFFSETFROM:+0100
TZOFFSETTO:+0200
TZNAME:CEST
DTSTART:19700329T020000
RRULE:FREQ=YEARLY;INTERVAL=1;BYDAY=-1SU;BYMONTH=3
END:DAYLIGHT
BEGIN:STANDARD
TZOFFSETFROM:+0200
TZOFFSETTO:+0100
TZNAME:CET
DTSTART:19701025T030000
RRULE:FREQ=YEARLY;INTERVAL=1;BYDAY=-1SU;BYMONTH=10
END:STANDARD
END:VTIMEZONE
BEGIN:VEVENT
UID:19947f6e1751241b47b12085fd7d471a@gruene-hcl.de
URL;VALUE=URI:https://gruene-hcl.de/termine/buergersprechstunde/
LOCATION:Rugge, Clarholz
SUMMARY:Bürgersprechstunde
DESCRIPTION;ALTREP="data:text/html,%0A%3Cp%3EWir%20sind%20ansprechbar%20z
 u%20allen%20aktuellen%20Themen%2C%20die%20Euch%20bewegen.%20Diesmal%20in%
 20Clarholz%20bei%20Rugge%2C%20da%20seit%20kurzem%20der%20Bebauungsplan%20
 %22Kirchstra%C3%9Fe%20Holzhof%22%20offen%20einsehbar%20im%20Internet%20an
 zugucken%20ist.%20%3C%2Fp%3E%0A%0A%0A%0A%3Cp%3E%3Ca%20href%3D%22https%3A%
 2F%2Fwww.o-sp.de%2Fherzebrock%2Fplan%2Fuebersicht.php%3FL1%3D4%26amp%3Bpi
 d%3D78076%22%20id%3D%22https%3A%2F%2Fwww.o-sp.de%2Fherzebrock%2Fplan%2Fue
 bersicht.php%3FL1%3D4%26amp%3Bpid%3D78076%22%20target%3D%22_blank%22%20re
 l%3D%22noreferrer%20noopener%22%3E%26gt%3B%26gt%3B%20hier%20direkt%20zum%
 20Plan%20auf%20die%20Seite%20der%20Gemeinde%20%26lt%3B%26lt%3B%3C%2Fa%3E%
 3C%2Fp%3E%0A%0A%0A%0A%3Cp%3EWas%20hei%C3%9Ft%20das%3F%20Bis%20zum%205.%20
 M%C3%A4rz%20ist%20der%20neue%20B-Plan%20%C3%B6ffentlich%20einsehbar.%20%3
 Cbr%3EAlle%20B%C3%BCrgerinnen%20und%20B%C3%BCrger%20k%C3%B6nnen%20dazu%20
 Bedenken%20oder%20auch%20Verbesserungsvorschl%C3%A4ge%20schriftlich%20%28
 Email%20ist%20ok%29%20bei%20der%20Verwaltung%20einreichen.%20%20%3C%2Fp%3
 E%0A%0A%0A%0A%3Cp%3EDie%20Stellungnahmen%20werden%20dann%20von%20der%20Ve
 rwaltung%20bearbeitet%20und%20dem%20Rat%20vorgelegt.%20%3C%2Fp%3E%0A%0A%0
 A%0A%3Cp%3EGenauer%20beschrieben%20steht%20das%20%3Ca%20href%3D%22https%3
 A%2F%2Fwww.o-sp.de%2Fherzebrock%2Fplan%2Fgrundlagen.php%3Fpid%3D78076%26a
 mp%3BL1%3D4%26amp%3Bt_id%3D5%22%20target%3D%22_blank%22%20rel%3D%22norefe
 rrer%20noopener%22%3E%26gt%3B%26gt%3B%20hier%20auf%20der%20Gemeindeseite%
 20%26lt%3B%26lt%3B%3C%2Fa%3E%3C%2Fp%3E%0A%0A%0A%0A%3Cp%3E%3C%2Fp%3E%0A%0A
 %0A%0A%3Cp%3E%3C%2Fp%3E%0A":Wir sind ansprechbar zu allen aktuellen Theme
 n\, die Euch bewegen. Diesmal in Clarholz bei Rugge\, da seit kurzem der 
 Bebauungsplan "Kirchstraße Holzhof" offen einsehbar im Internet anzuguck
 en ist.\n\n>> hier direkt zum Plan auf die Seite der Gemeinde <<\n\nWas h
 eißt das? Bis zum 5. März ist der neue B-Plan öffentlich einsehbar. Al
 le Bürgerinnen und Bürger können dazu Bedenken oder auch Verbesserungs
 vorschläge schriftlich (Email ist ok) bei der Verwaltung einreichen.\n\n
 Die Stellungnahmen werden dann von der Verwaltung bearbeitet und dem Rat 
 vorgelegt.\n\nGenauer beschrieben steht das >> hier auf der Gemeindeseite
  <<
CLASS:PUBLIC
DTSTART;TZID=Europe/Berlin:20260226T180000
DTEND;TZID=Europe/Berlin:20260226T183000
DTSTAMP:20260422T102515
END:VEVENT
END:VCALENDAR